BEGIN:VCALENDAR
VERSION:2.0
PRODID:-//ox.ac.uk//NONSGML oxford.event//EN
X-WR-TIMEZONE:Europe/London
BEGIN:VTIMEZONE
TZID:Europe/London
X-LIC-LOCATION:Europe/London
BEGIN:DAYLIGHT
DTSTART;VALUE=DATE-TIME:19700329T010000
RRULE:FREQ=YEARLY;BYDAY=-1SU;BYMONTH=3
TZNAME:BST
TZOFFSETFROM:+0000
TZOFFSETTO:+0100
END:DAYLIGHT
BEGIN:STANDARD
DTSTART;VALUE=DATE-TIME:19701025T020000
RRULE:FREQ=YEARLY;BYDAY=-1SU;BYMONTH=10
TZNAME:GMT
TZOFFSETFROM:+0100
TZOFFSETTO:+0000
END:STANDARD
END:VTIMEZONE
BEGIN:VEVENT
SUMMARY:**Call for Papers** American-European Health Economics Study Group
  - X Edition
DTSTART;TZID=Europe/London;VALUE=DATE-TIME:20260601T000000
DTEND;TZID=Europe/London;VALUE=DATE-TIME:20260602T235959
DTSTAMP;VALUE=DATE-TIME:20260420T171854Z
UID:7dd01c5657d8439a86c68703900acfee
CONTACT:catia.nicodemo@phc.ox.ac.uk
CREATED;VALUE=DATE-TIME:20251121T152629Z
LAST-MODIFIED;VALUE=DATE-TIME:20251121T152844Z
END:VEVENT
END:VCALENDAR
