BEGIN:VCALENDAR
VERSION:2.0
PRODID:-//ox.ac.uk//NONSGML oxford.event//EN
X-WR-TIMEZONE:Europe/London
BEGIN:VTIMEZONE
TZID:Europe/London
X-LIC-LOCATION:Europe/London
BEGIN:DAYLIGHT
DTSTART;VALUE=DATE-TIME:19700329T010000
RRULE:FREQ=YEARLY;BYDAY=-1SU;BYMONTH=3
TZNAME:BST
TZOFFSETFROM:+0000
TZOFFSETTO:+0100
END:DAYLIGHT
BEGIN:STANDARD
DTSTART;VALUE=DATE-TIME:19701025T020000
RRULE:FREQ=YEARLY;BYDAY=-1SU;BYMONTH=10
TZNAME:GMT
TZOFFSETFROM:+0100
TZOFFSETTO:+0000
END:STANDARD
END:VTIMEZONE
BEGIN:VEVENT
SUMMARY:Oxford Summer Academy for the Social Science of Health Innovation 
 2026
DTSTART;TZID=Europe/London;VALUE=DATE-TIME:20260824T000000
DTEND;TZID=Europe/London;VALUE=DATE-TIME:20260826T235959
DTSTAMP;VALUE=DATE-TIME:20260420T171905Z
UID:83ff5767d4bb45dc8225400519949916
CONTACT:ths-summeracademy@phc.ox.ac.uk
CREATED;VALUE=DATE-TIME:20250312T131908Z
DESCRIPTION:Following the success of our inaugural Academy last year\, we 
 are delighted to offer our second Translational Health Sciences Summer Aca
 demy. Building on the successful MSc in Translational Health Sciences at t
 he University of Oxford\, this Summer Academy takes an interdisciplinary a
 pproach to translating healthcare innovations into practice globally.
LAST-MODIFIED;VALUE=DATE-TIME:20260408T095040Z
LOCATION:St Hilda's College\,\nCowley Place\,\nOxford\,\nOX4 1DY
END:VEVENT
END:VCALENDAR
